Workbook

Sheet благоустрояване и озеленяване
A1: Приложение №3
A2: ОБЕКТ: БЛАГОУСТРОЯВАНЕ НА ВЪТРЕШНИ УЛИЦИ И МЕЖДУБЛОКОВИ ПРОСТРАНСТВА НА ГР. РУДОЗЕМ - ЛОТ6
A3: Подобект 1 - Реконструкция на улица "Кап. Петко войвода" нейните пресечки и прилежащи междублокови пространства
A4: част: "Благоустрояване и озеленяване"
A5: КОЛИЧЕСТВЕНА СМЕТКА
A7: № | B7: Видове материали | C7: мерна единица | D7: мерна единица | E7: Количество | F7: Ед.цена | G7: Стойност
A8: I. | B8: ДЕМОНТАЖНИ ДЕЙНОСТИ И ПОДГОТВИТЕЛНИ СМР
A9: Демонтажни дейности
A10: 1 | B10: Изсичане и изкореняване на единични дървета, I клас на дебелина (диаметър на стъблото до 21 см.) | C10: бр./p. | D10: бр | E10: 2 | G10: =E10*F10 -> 0
A11: 2 | B11: Изсичане и изкореняване на единични дървета, II клас на дебелина (диаметър на стъблото 21/40см.) | C11: бр./p. | D11: бр | E11: 8 | G11: =E11*F11 -> 0
A12: 3 | B12: Санитарна и формираща резитба на короната | C12: бр./p. | D12: бр | E12: 11 | G12: =E12*F12 -> 0
A13: 4 | B13: Отнемане на съществуващ почвен пласт - средно 30 см, извозване и депонирането му | C13: бр./p. | D13: м3 | E13: 935.52 | G13: =E13*F13 -> 0
A14: 5 | B14: Демонтаж на различни видове пешеходни настилки и тротоари включително разкъртване, натоварване, транспортиране, разтоварване на регламентирано депо за строителни отпадъци с всички платени за целта такси от страна на Изпълнителя. | C14: бр./p. | D14: м2 | E14: 5553.88 | G14: =E14*F14 -> 0
A15: 6 | B15: Демонтаж на улични настилки включително разкъртване, натоварване, транспортиране, разтоварване на регламентирано депо за строителни отпадъци с всички платени за целта такси от страна на Изпълнителя. | C15: бр./p. | D15: м2 | E15: 7059.85 | G15: =E15*F15 -> 0
A16: 7 | B16: Демонтаж на бордюри, ниски подпорни стени включително разкъртване, натоварване, транспортиране, разтоварване на регламентирано депо за строителни отпадъци с всички платени за целта такси от страна на Изпълнителя. | C16: бр./p. | D16: л.м | E16: 2292.42 | G16: =E16*F16 -> 0
A17: 8 | B17: Демонтаж на бетонови стъпала включително разкъртване, натоварване, транспортиране, разтоварване на регламентирано депо за строителни отпадъци с всички платени за целта такси от страна на Изпълнителя. | C17: бр./p. | D17: м2 | E17: 25.74 | G17: =E17*F17 -> 0
A18: Подготвителни СМР
A19: 9 | B19: Реконструкция на подпорни стени - изкърпване, подмазване, донаждане , ремонт на шапки | C19: бр./p. | D19: м2 | E19: 153.55 | G19: =E19*F19 -> 0
A20: 10 | B20: Реконструкция на стъпала - изкъпваване, подмазване | C20: бр./p. | D20: м2 | E20: 8.02 | G20: =E20*F20 -> 0
A21: 11 | B21: Изкоп за съоръжения в земни почви, включително натоварване, транспортиране на определено разстояние, разтоварване на депо и оформянето му, включително всички свързани с това разходи. | C21: м3 | D21: м3 | E21: =(216+336+168+21.8)*1.15 + 5830 -> 6683.07 | G21: =E21*F21 -> 0
A22: 12 | B22: Насип към съоръжения за фундаменти от материал с минимален ъгъл на вътрешно триене φ 35°, включително натоварване, транспорт, разтоварване, уплътняване, както и всички свързани с това разходи. | C22: м3 | D22: м3 | E22: 597 | G22: =E22*F22 -> 0
A23: 13 | B23: Подложен бетон Клас C12/15, включително доставка, полагане и уплътняване както и всички свързани с това разходи включително кофраж. | C23: м3 | D23: м3 | E23: =E24*0.2+56*3*0.1 -> 42.936 | G23: =E23*F23 -> 0
A24: 14 | B24: Бетон C20/25, положен на място за стена на подпорна стена , включително доставка, полагане и уплътняване, кофраж както и всички свързани с това разходи без армировката. | C24: м3 | D24: м3 | E24: =(39.2+22.6+26.3+8.7)*1.35 -> 130.68 | G24: =E24*F24 -> 0
A25: 15 | B25: Армировъчна стомана с периодичен профил B500B (БДС 9252:2007) , включително доставка, заготовка, монтаж, както и всички свързани с това разходи. | C25: тон | D25: тон | E25: =E24*0.1 -> 13.068 | G25: =E25*F25 -> 0
A26: 16 | B26: Барбакани ф50, предпазени от запушване посредством геотекстилна мрежа от вътрешната страна, включително доставка, заготовка, монтаж, както и всички свързани с това разходи. | C26: бр | D26: бр | E26: 120 | G26: =E26*F26 -> 0
A27: 17 | B27: Хидроизолация от обмазен тип , по всички бетонови повърхности, които се засипват, включително доставка, полагане, както и всички свързани с това разходи. | C27: м2 | D27: м2 | E27: =162+100+180+43.5 -> 485.5 | G27: =E27*F27 -> 0
A28: 18 | B28: Каменна облицовка с гнайс | C28: м3 | D28: м2 | E28: =E27*0.8 -> 388.4 | G28: =E28*F28 -> 0
A29: 19 | B29: Доставка и монтаж система с габиони както и всички свързани с това разходи. | D29: м3 | E29: =6*58 -> 348 | G29: =E29*F29 -> 0
A30: 20 | B30: Изработка и монтаж на стоманени решетки по детайл | D30: кг | E30: =455*15 -> 6825 | G30: =E30*F30 -> 0
A32: II. | B32: РАСТИТЕЛНОСТ - нов проект
A33: 21 | B33: Иглолистни дървета | C33: бр./p. | D33: бр. | E33: 15 | G33: =E33*F33 -> 0
A34: 22 | B34: Иглолистни храсти и ниски форми | C34: бр./p. | D34: бр. | E34: 105 | G34: =E34*F34 -> 0
A35: 23 | B35: Широколистни дървета | C35: бр./p. | D35: бр. | E35: 76 | G35: =E35*F35 -> 0
A36: 24 | B36: Вечнозелени широколистни храсти | C36: бр./p. | D36: бр. | E36: 411 | G36: =E36*F36 -> 0
A37: 25 | B37: Жив плет и бордюр | C37: бр./p. | D37: бр. | E37: 886 | G37: =E37*F37 -> 0 | H37: 10
A38: 26 | B38: Цъфтящи широколистни храсти | C38: бр./p. | D38: бр. | E38: 219 | G38: =E38*F38 -> 0 | H38: 3
A39: 27 | B39: Увивни храсти | C39: бр./p. | D39: бр. | E39: 20 | G39: =E39*F39 -> 0
A40: 28 | B40: Цветя | C40: бр./p. | D40: бр. | E40: 151 | G40: =E40*F40 -> 0
A42: III. | B42: ЗАТРЕВЯВАНЕ
A43: 29 | B43: Тревна смеска за зелени площи 3069 м2 -норма 40 гр/м2 | C43: кг | D43: кг | E43: 122.76 | G43: =E43*F43 -> 0
A44: 30 | B44: Тревна смеска за паркоелементи на тр. фуга 1576 м2 -норма 30 гр/м2 | C44: кг | D44: кг | E44: 47.28 | G44: =E44*F44 -> 0
A46: IV. | B46: НЕРАСТИТЕЛНИ МАТЕРИАЛИ
A47: 31 | B47: Торо-почвена смеска с 20% разбухване средно по 10 см в зелените площи | C47: м3 | D47: м3 | E47: 400.73 | G47: =E47*F47 -> 0
A48: 32 | B48: Торо-почвена смеска с 20% разбухване средно по 10см на 50% от площта за настилка паркинг елементи на тревна фуга | C48: м3 | D48: м3 | E48: 94.55 | G48: =E48*F48 -> 0
A49: 33 | B49: Минерална тор комбинирана- норма 30 гр/м2 | C49: кг | D49: кг | E49: 100.18 | G49: =E49*F49 -> 0
A50: 34 | B50: Прегоряла оборска тор - гнездово по 10кг/дърво; 3 кг/храст; 10 кг/л.м жив плет | C50: кг | D50: тон | E50: 4.38 | G50: =E50*F50 -> 0
A51: 35 | B51: Дървени колове за подпора /по 3бр на дърво/ | C51: бр. | D51: бр. | E51: =3*(E33+E35) -> 273 | G51: =E51*F51 -> 0
A52: 36 | B52: Предпазни превръзки по 1 бр. на дърво | C52: бр. | D52: бр. | E52: =1*(E33+E35) -> 91 | G52: =E52*F52 -> 0
A53: 37 | B53: Въже/ колан за превързване на дървета по 2 м | C53: м' | D53: м' | E53: =2*(E33+E35) -> 182 | G53: =E53*F53 -> 0
A55: V. | B55: ПАРКОВИ НАСТИЛКИ
B56: Подложни пластове
A57: 38 | B57: Пласт от трошен камък фракция 0/18 - 20см със заложено слягане 20% | C57: м3 | D57: м3 | E57: 2444.79 | G57: =E57*F57 -> 0
A58: 39 | B58: Пласт от трошен камък фракция 0/63 - 20см със заложено слягане 20% | C58: м3 | D58: м3 | E58: 1334.05 | G58: =E58*F58 -> 0
A59: 40 | B59: Пластове от пясък общо - 9 см под пешех.настилки и 5см под улична настилка | C59: м3 | D59: м3 | E59: 816.82 | G59: =E59*F59 -> 0
A60: 41 | B60: Бетонова плоча клас C20/25- деб 12 см , армирана с мрежа 8/20/20 за основа на каучукова настилка на фитнес площадка | C60: м3 | D60: м3 | E60: 11.56 | G60: =E60*F60 -> 0
A61: 42 | B61: Армирана бетонова плоча 8 см в ивица от 50 см около всички сгради | C61: м3 | D61: м3 | E61: 55.97 | G61: =E61*F61 -> 0
A62: 43 | B62: Дренажен бетон в основата на бордюра ( разходна норма 0,05-0,06 м3 /л.м | C62: м3 | D62: м3 | E62: 227.58 | G62: =E62*F62 -> 0
A63: 44 | B63: Бетонов фундамент за поставяне на пейки 800/200/400 мм - по 2 броя на пейка | C63: м3 | D63: м3 | E63: 5.51 | G63: =E63*F63 -> 0
A64: 45 | B64: Бетонов фундамент за поставяне на кошчета 400/400/400 мм | C64: м3 | D64: м3 | E64: 3.71 | G64: =E64*F64 -> 0
A65: 46 | B65: Бетонов фундамент за поставяне на колони беседка 400/400/800 мм - 10 броя | C65: м3 | D65: м3 | E65: 1.28 | G65: =E65*F65 -> 0
A66: 47 | B66: Бетонов фундамент за поставяне на фитнес съоражения 400/400/800 мм - 5 броя | C66: м3 | D66: м3 | E66: 0.64 | G66: =E66*F66 -> 0
B67: Видове настилки
A68: 48 | B68: Асфалтoбетон 8см | C68: м2 | D68: м2 | E68: 8 | G68: =E68*F68 -> 0
A69: 49 | B69: Бетонова настилка светлосива Бехатон 20 /16,5 /8 см | C69: м2 | D69: м2 | E69: 4896.33 | G69: =E69*F69 -> 0
A70: 50 | B70: Бетонови плочи тактилни 40/40/4 см - цвят жълт | C70: м2 | D70: м2 | E70: 39 | G70: =E70*F70 -> 0
A71: 51 | B71: Бетонова настилка цветен Бехатон 20 /16,5 /6 см | C71: м2 | D71: м2 | E71: 5296.06 | G71: =E71*F71 -> 0
A72: 52 | B72: Бетонова плоча - цвят светлосив 20 /20 /6 см | C72: м2 | D72: м2 | E72: 48.6 | G72: =E72*F72 -> 0
A73: 53 | B73: Бетонова плоча - цвят антрацит 20 /20 /6 см | C73: м2 | D73: м2 | E73: 20.33 | G73: =E73*F73 -> 0
A74: 54 | B74: Бетоново паве / видим бетон - цвят антрацит 20 /10 /10 см | C74: м2 | D74: м2 | E74: 153.86 | G74: =E74*F74 -> 0
A75: 55 | B75: Паве/ видим бетон - цвят светлосив 10 /10 / 6 см | C75: м2 | D75: м2 | E75: 142.3 | G75: =E75*F75 -> 0
A76: 56 | B76: Настилка от паркинг елементи 60 /40 /10 см | C76: м2 | D76: м2 | E76: 1575.81 | G76: =E76*F76 -> 0
A77: 57 | B77: Настилка саморазливна | C77: м2 | D77: м2 | E77: 100.22 | G77: =E77*F77 -> 0
A78: 58 | B78: Парков бордюр 5/25/100см | C78: м' | D78: м' | E78: =1380*1.15 -> 1587 | G78: =E78*F78 -> 0
A79: 59 | B79: Уличен бордюр 18/35/50см | C79: м' | D79: м' | E79: =1562.59*1.15 -> 1796.9785 | G79: =E79*F79 -> 0
A80: 60 | B80: Уличен бордюр 18/35/50см легнал | C80: м' | D80: м' | E80: 850.36 | G80: =E80*F80 -> 0
A81: 61 | B81: Каучукови плочи 40/40/2 см - светъл цвят (фитнес) | C81: м' | D81: м2 | E81: 42.83 | G81: =E81*F81 -> 0
A82: 62 | B82: Каучукови плочи 40/40/2 см - светъл цвят (фитнес) | C82: м' | D82: м2 | E82: 53.51 | G82: =E82*F82 -> 0
A84: VI. | B84: ПАРКОВА МЕБЕЛ и съоръжения
A85: 63 | B85: Стандартни дървени пейки с облегалки, мин дълж 160см | C85: бр./p. | D85: бр. | E85: 43 | G85: =E85*F85 -> 0
A86: 64 | B86: Дървени пейки върху ниска бетонова стена | C86: бр./p. | D86: бр. | E86: 5 | G86: =E86*F86 -> 0
A87: 65 | B87: Маса с пейки | C87: бр./p. | D87: бр. | E87: 8 | G87: =E87*F87 -> 0
A88: 66 | B88: Дървена беседка | C88: бр./p. | D88: бр. | E88: 2 | G88: =E88*F88 -> 0
A89: 67 | B89: Кошчета за отпадъци | C89: бр./p. | D89: бр. | E89: 58 | G89: =E89*F89 -> 0
A90: 68 | B90: Парапет | C90: бр./p. | D90: м' | E90: 365 | G90: =E90*F90 -> 0
A91: 69 | B91: Пейка с пергола г-образна | C91: бр./p. | D91: бр. | E91: 1 | G91: =E91*F91 -> 0
A92: 70 | B92: Пейка с пергола права | C92: бр./p. | D92: бр. | E92: 1 | G92: =E92*F92 -> 0
A93: 71 | B93: Пергола | C93: бр./p. | D93: бр. | E93: 1 | G93: =E93*F93 -> 0
A94: 72 | B94: Чешма / фонтанка | C94: бр./p. | D94: бр | E94: 2 | G94: =E94*F94 -> 0
A95: 73 | B95: Мултифункционален фитнес уред- 3 в 1, състоящ се от уред за екстензия на крака, уред за екстензия на трицепс и уред за ниска стойка за преси. ( номер 1 от чертеж 11) | D95: бр. | E95: 1 | G95: =E95*F95 -> 0
A96: 74 | B96: Мултифункционален кардио тренажор – 2 в 1, състоящ се от хоризонтален и вертикален велоергометър. (номер 2 от чертеж 11) | D96: бр. | E96: 1 | G96: =E96*F96 -> 0
A97: 75 | B97: Мултифункционален фитнес уред – 2 в 1, състоящ се от уреди за стречинг на кръста и талията. (номер 3 по чертеж 11) | D97: бр. | E97: 1 | G97: =E97*F97 -> 0
A98: 76 | B98: Мултифункционален фитнес уред – 2 в 1, състоящ се от уред за стречинг на кръста и уред за екстензия на краката ( номер 4 по чертеж 11) | D98: бр. | E98: 1 | G98: =E98*F98 -> 0
A99: 77 | B99: Мултифункционален фитнес уред – 2 в 1, състои се от уред за гръбна и коремна пренса и уред за дърпане на скрипец.( номер 5 от 1ертеж 11) | D99: бр. | E99: 1 | G99: =E99*F99 -> 0
A100: ДЕНДРОЛОГИЧНА ВЕДОМОСТ
A101: № | B101: ВИДОВ СЪСТАВ | C101: РАЗМЕР | D101: размер | E101: количество | F101: Ед.цена | G101: Стойност
A102: І | B102: ИГЛОЛИСТНИ ДЪРВЕТА | G102: =E102*F102 -> 0
A103: 1 | B103: Cedrus atlantica | C103: 180-200 | D103: 180-200 | E103: 2 | G103: =E103*F103 -> 0
A104: 2 | B104: Chamaecyparis laws. 'Column. Glauca' | C104: 150-175 | D104: 150-175 | E104: 4 | G104: =E104*F104 -> 0
A105: 3 | B105: Cupressus arizonica | C105: 150-175 | D105: 150-175 | E105: 7 | G105: =E105*F105 -> 0
A106: 4 | B106: Juniperus virg. 'Skyrocket' | C106: 175-200 | D106: 175-200 | E106: 2 | G106: =E106*F106 -> 0
...

Sheet ЕЛ
A1: Обект: Благоустрояване на вътрешни улици и междублокови пространства в гр.Рудозем” - ЛОТ6 Подобект 1: „Реконструкция на ул.”Кап. Петко Войвода”, нейните пресечки и прилежащи междублокови пространства”
A2: част "Електрическа"
A3: Количествена сметка
A5: N | B5: Наименование на материала | C5: Мяр. | D5: Кол. | E5: Ед.цена | F5: Цена
A6: 1 | B6: Доставка и монтаж на СВТ 5x2.5 | C6: м. | D6: 30 | F6: =D6*E6 -> 0
A7: 2 | B7: Доставка и монтаж на СВТ 3x2.5 | C7: м. | D7: 900 | F7: =D7*E7 -> 0
A8: 3 | B8: Доставка и монтаж на oсветително тяло 150W | C8: Бр. | D8: 22 | F8: =D8*E8 -> 0
A9: 4 | B9: Доставка и монтаж на рогатка за стълб с oсветително тяло 2x18W | C9: Бр. | D9: 18 | F9: =D9*E9 -> 0
A10: 5 | B10: Доставка и монтаж на рогатка за стълб с oсветително тяло 2x26W | C10: Бр. | D10: 40 | F10: =D10*E10 -> 0
A11: 6 | B11: Доставка и монтаж на стълб за осветително тяло h=3.5m | C11: Бр. | D11: 29 | F11: =D11*E11 -> 0
A12: 7 | B12: Направа на фундамент за стълб с H = 3,5 m | C12: Бр. | D12: 29 | F12: =D12*E12 -> 0
A13: 8 | B13: Доставка и монтаж на стълб за осветително тяло h=8m | C13: Бр. | D13: 2 | F13: =D13*E13 -> 0
A14: 9 | B14: Направа на фундамент за стълб с H = 8,0 m | C14: Бр. | D14: 2 | F14: =D14*E14 -> 0
A15: 10 | B15: Грундиране и боядисване на стълб с H = 8,0 m | C15: бр. | D15: 22 | F15: =D15*E15 -> 0
A16: 11 | B16: Доставка и полагане на Fe тръба 1.5'' | C16: м. | D16: 40 | F16: =D16*E16 -> 0
A17: 12 | B17: Доставка и полагане на тръба KD Ф40 | C17: м. | D17: 700 | F17: =D17*E17 -> 0
... A23: 18 | B23: Демонтаж на съществуващо стълб на парков осветител h=3.5m | C23: Бр. | D23: 10 | F23: =D23*E23 -> 0
A24: всичко общо без ДДС | F24: =SUM(F6:F23) -> 0
A25: ДДС 20% | F25: =F24*0.2 -> 0
A26: всичко общо с ДДС | F26: =F24+F25 -> 0

Sheet ВиК - отводняване
A1: Обект: "БЛАГОУСТРОЯВАНЕ НА ВЪТРЕШНИ УЛИЦИ И МЕЖДУБЛОКОВИ ПРОСТРАНСТВА НА ГР. РУДОЗЕМ - ЛОТ6 Подобект: 1 - Реконструкция на ул.„Кап.Петко войвода”, нейните пресечки и прилежащи междублокови пространства
A2: Част: ВиК - отводняване
A3: КОЛИЧЕСТВЕНА СМЕТКА
A4: № | B4: Наименование СМР | C4: м-ка | D4: количество | E4: ед. цена | F4: стойност
B5: Канализационна мрежа
A6: 1 | B6: Рязане на асфалтова настилка | C6: м | D6: 16 | F6: =D6*E6 -> 0
A7: 2 | B7: Разкъртване, изкоп и извозване на асфалтова настилка, машинно до 15 км | C7: м3 | D7: 1.6 | F7: =D7*E7 -> 0
A8: 3 | B8: Изкоп и извозване на трошенокаменна настилка, машинно до 15 км | C8: м3 | D8: 6.5 | F8: =D8*E8 -> 0
A9: 4 | B9: Траншеен изкоп с багер, неукрепен с шир.до 1,20м и дълбочина до 2,00м за канализация на отвал | C9: м3 | D9: 300 | F9: =D9*E9 -> 0
A10: 5 | B10: Траншеен изкоп с багер, неукрепен с шир.до 1,20м и дълбочина до 2,00м за канализация на транспорт | C10: м3 | D10: 90 | F10: =D10*E10 -> 0
A11: 6 | B11: Извозване на излишни земни маси на депо до 10км | C11: м3 | D11: 90 | F11: =D11*E11 -> 0
A12: 7 | B12: Доставка, обратен насип с трамбоване на фр.0-5 около тръба | C12: м3 | D12: 45 | F12: =D12*E12 -> 0
A13: 8 | B13: Обратен насип с трамбоване на пластове от 30см със земни маси | C13: м3 | D13: 300 | F13: =D13*E13 -> 0
A14: 9 | B14: Подмяна на съществуващ бетонов подземен канал с PEHD ф500, SN8, вкл. Изкоп, пясъщна засипка, обратен насип и възстановяване на настилка | C14: м | D14: 300 | F14: =D14*E14 -> 0
A15: 10 | B15: Доставка и полагане на подземен канал PEHD ф200, SN8 | C15: м | D15: 265 | F15: =D15*E15 -> 0
A16: 11 | B16: Доставка и монтаж на улична РШ ф1000 от сглобяеми ст.бет.елементи, с чугунен капак, Н=0,70м | C16: бр | D16: 1 | F16: =D16*E16 -> 0
A17: 12 | B17: Доставка и монтаж на улична РШ ф1000 от сглобяеми ст.бет.елементи, с чугунен капак, Н=0,80м | C17: бр | D17: 1 | F17: =D17*E17 -> 0
... A31: 26 | B31: Доставка и монтаж на дъждоприемен уличен отток ф400бет., с чугунена водоприемна решетка, Н=1,00м | C31: бр | D31: 12 | F31: =D31*E31 -> 0
A32: всичко общо без ДДС | F32: =SUM(F6:F31) -> 0
A33: ДДС 20% | F33: =F32*0.2 -> 0
A34: всичко общо с ДДС | F34: =F32+F33 -> 0

Sheet ВиК - поливни системи
A1: ОБЕКТ:БЛАГОУСТРОЯВАНЕ НА ВЪТРЕШНИ УЛИЦИ И МЕЖДУБЛОКОВИ ПРОСТРАНСТВА НА ГР. РУДОЗЕМ - ЛОТ6, Подобект 1: Реконструкция на ул. „Кап. Петко войвода”, нейните пресечки и прилежащи междублокови пространства.
A2: ЧАСТ: ВиК - ПОЛИВНА СИСТЕМА
A3: КОЛИЧЕСТВЕНА СМЕТКА
A5: № | B5: Наименование | C5: м-ка | D5: к-во | E5: ед.цена | F5: стойност
B6: Поливна система
A7: 1 | B7: Хидрант потъващ - спрей | C7: бр | D7: 466 | F7: =D7*E7 -> 0
A8: 2 | B8: Дюзи | C8: бр | D8: 339 | F8: =D8*E8 -> 0
A9: 3 | B9: МП Ротатор | C9: бр | D9: 127 | F9: =D9*E9 -> 0
A10: 4 | B10: Клапан 1'' - BSP-NFC | C10: бр | D10: 33 | F10: =D10*E10 -> 0
A11: 5 | B11: Клапан 1'' - BSP-WFC | C11: бр | D11: 2 | F11: =D11*E11 -> 0
A12: 6 | B12: Декодер - 1 станции | C12: бр | D12: 2 | F12: =D12*E12 -> 0
A13: 7 | B13: Декодер - 2 станции | C13: бр | D13: 4 | F13: =D13*E13 -> 0
A14: 8 | B14: Декодер - 4 станции | C14: бр | D14: 8 | F14: =D14*E14 -> 0
A15: 9 | B15: Декодер - surge protect | C15: бр | D15: 5 | F15: =D15*E15 -> 0
A16: 10 | B16: Програматор за декодери | C16: бр | D16: 1 | F16: =D16*E16 -> 0
A17: 11 | B17: Galaxy RT Програматор - Декодерна система от 0 до 125 станции - с вграден модем | C17: бр | D17: 1 | F17: =D17*E17 -> 0
A18: 12 | B18: Сензор за дъжд | C18: бр | D18: 1 | F18: =D18*E18 -> 0
... A73: 67 | B73: Преминаване през съществуващи алейни настилки със ПВЦ тръба ф110 | C73: л.м. | D73: 155 | F73: =D73*E73 -> 0
B74: Помпено оборудване | F74: =D74*E74 -> 0
A75: 68 | B75: Многостъпална помпа SPCO VM 15-5 | C75: бр. | D75: 1 | F75: =D75*E75 -> 0
A76: 69 | B76: Инвертор ITTP4.0W-RS | C76: бр. | D76: 1 | F76: =D76*E76 -> 0
A77: 70 | B77: разширителен съд 24Л. | C77: бр. | D77: 1 | F77: =D77*E77 -> 0
A78: 71 | B78: Фитър самопочистващ 3'' | C78: бр. | D78: 1 | F78: =D78*E78 -> 0
A79: 72 | B79: Фитър дисков 3'' | C79: бр. | D79: 1 | F79: =D79*E79 -> 0
A80: 73 | B80: Подвързваща арматура | C80: бр. | D80: 1 | F80: =D80*E80 -> 0
A81: 74 | B81: Поплавъков вентил 2" | C81: бр. | D81: 1 | F81: =D81*E81 -> 0
A82: 75 | B82: Монтаж на помено оборудвне | C82: бр. | D82: 1 | F82: =D82*E82 -> 0
A83: 76 | B83: Потопяема помпа QS 4X.10-8.DRP | C83: бр. | D83: 1 | F83: =D83*E83 -> 0
A84: 77 | B84: Табло за управление | C84: бр. | D84: 1 | F84: =D84*E84 -> 0
A85: 78 | B85: Подвързваща арматура | C85: бр. | D85: 1 | F85: =D85*E85 -> 0
A86: 79 | B86: Монтаж на помено оборудвне и сондаж/кладенец/ | C86: бр. | D86: 1 | F86: =D86*E86 -> 0
... A89: 82 | B89: Техническо помещение включително всички свързани с това разходи | C89: бр. | D89: 1 | F89: =D89*E89 -> 0
A90: всичко общо без ДДС | F90: =SUM(F7:F89) -> 0
A91: ДДС 20% | F91: =F90*0.2 -> 0
A92: всичко общо с ДДС | F92: =F90+F91 -> 0

Sheet Пътна
A1: ОБЕКТ: "Благоустрояване на вътрешни улици и междублокови пространства в гр. Рудозем" - ЛОТ 6
A2: ПОДОБЕКТ 1: "Реконструкция на ул. "Кап. Петко Войвода", нейните пресечки и прилежащи блокови пространства"
A3: Част : Пътна
B6: КОЛИЧЕСТВЕНА СМЕТКА
A8: П-ция № | B8: Описание на работите | C8: мярка | D8: к-ство | E8: ед. цена | F8: сума
A11: 1000 | B11: Сметка 1000. ЗЕМНИ РАБОТИ, РАЗВАЛЯНЕ
A13: 1001 | B13: Разваляне на тротоар от бетонови плочи в едно с основата и оформяне на леглото, и уплътняването му до 95% от модифициран Проктор, съгласно Раздел 2300 от ТС, включително разкъртване, натоварване, транспортиране, разтоварване на регламентирано депо за строителни отпадъци с всички платени за целта такси от страна на Изпълнителя. | C13: m2 | D13: 933 | F13: =D13*E13 -> 0
A14: 1002 | B14: Разрушаване на тротоар от бетон и оформяне на леглото, и уплътняването му до 95% от модифициран Проктор, съгласно Раздел 2300 от ТС, включително разкъртване, натоварване, транспортиране, разтоварване на регламентирано депо за строителни отпадъци с всички платени за целта такси от страна на Изпълнителя. | C14: m2 | D14: 10 | F14: =D14*E14 -> 0
A15: 1003 | B15: Разрушаване на бетонови бордюри с размер 18/35, включително разкъртване, натоварване, транспортиране, разтоварване на регламентирано депо за строителни отпадъци с всички платени за целта такси от страна на Изпълнителя. | C15: m | D15: 1046 | F15: =D15*E15 -> 0
A21: 2000 | B21: Сметка 2000. ПЪТНИ РАБОТИ
A23: 2001 | B23: Доставка и полагане на несортирани едрозърнести минерални материали за изпълнение на основен пласт при тротоари и уплътняването му до 95% от модифициран Проктор, включително всички свързани с това разходи. | C23: m3 | D23: =D26*0.2 -> 13.4 | F23: =D23*E23 -> 0
A24: 2002 | B24: Доставка и полагане на бетонови бордюри с размер 18/35, включително бетонова основа/яка, съгласно изискванията на БДС EN 1340, включително всички свързани с това разходи. | C24: m | D24: 973 | F24: =D24*E24 -> 0
A25: 2003 | B25: Доставка и полагане на бетонови бордюри с размер 10/25, включително бетонова основа/яка, съгласно изискванията на БДС EN 1340, включително всички свързани с това разходи. | C25: m | D25: =10+20+20 -> 50 | F25: =D25*E25 -> 0
A26: 2004 | B26: Доставка и полагане на бетонови елементи за тротоар, включително и пясъчен пласт за подравняване, съгласно БДС EN1339 и чертежите, включително всички свързани с това разходи. | C26: m2 | D26: 67 | F26: =D26*E26 -> 0
A27: 2005 | B27: Доставка и полагане на елементи за изпълнение на "достъпна среда", съгласно БДС EN1339, включително всички свързани с това разходи. | C27: m2 | D27: =0.9+1.1+1.2+1+1.2+1+1.1+1 -> 8.5 | F27: =D27*E27 -> 0
A28: 2006 | B28: Доставка и монтаж на пътни знаци със стандартни размери, съгласно актуалната нормативна уредба, включително всички свързани с това разходи. | C28: бр. | D28: 4 | F28: =D28*E28 -> 0
A29: 2007 | B29: Доставка и монтаж на носещи елементи - стълбове φ60мм, за пътни знаци със стандартни размери, съгласно актуалната нормативна уредба, включително всички свързани с това разходи. | C29: m | D29: 14 | F29: =D29*E29 -> 0
A30: 2008 | B30: Изпълнение на Временна организация на движението, съгласно Проекта и Наредба №3/16.08.2010г., включително всички свързани с това разходи. | C30: глобална сума | F30: =D30*E30 -> 0
A31: всичко общо без ДДС | F31: =SUM(F13:F30) -> 0
A32: ДДС 20% | F32: =F31*0.2 -> 0
A33: всичко общо с ДДС | F33: =F31+F32 -> 0

Sheet Рекапитулация
A1: Обект : „Благоустрояване на вътрешни улици и междублокови пространства в гр.Рудозем” – ЛОТ6
A2: Рекапитулация на КСС
A3: Подобект 1 - Реконструкция на ул. „Кап. Петко войвода”, нейните пресечки и прилежащи междублокови пространства
A4: - част Благоустрояване и озеленяване | L4: ='благоустрояване и озеленяване'!G100 -> 0
A5: - част Електро | L5: =ЕЛ!F24 -> 0
A6: - част ВиК - отводняване | L6: ='ВиК - отводняване'!F32 -> 0
A7: - част ВиК - поливни системи | L7: ='ВиК - поливни системи'!F90 -> 0
A8: - част Пътна | L8: =Пътна!F32 -> 0
A9: Общо КСС без ДДС
A10: 20% ДДС
A11: Общо КСС с ДДС
B15: Изготвил:…………….
G26: инж.Камен Мизов - управител
